Workbook

Sheet Лист1
N1: Приложение №1 к распоряжению администрации Уватского муниципального округа от 14.08.2026 №0929-р
A2: Реестр мест (площадок) накопления твердых коммунальных отходов на территории Уватского муниципального округа
A3: №п/п | B3: Данные о нахождении мест (площадок)накопления твердых коммунальных отходов | C3: Наименование хозяйствующего субъекта | D3: Данные о технических характеристиках мест (площадок) накопления твердых коммунальных отходов | O3: Данные о собственниках мест (площадок) накомпления ТКО | P3: Данные об источниках образования ТКО, которые складируются в местах (площадках) накопления ТКО
D4: Количество контейнеров, шт | H4: Используемое покрытие (грунт, асфальт, бетон и др.) | I4: Площадь контейнерной площадки, м2 | J4: Информация о планируемых к размещению контейнеров на контейнерных площадках ТКО
D5: V=1,1 м3 | E5: V=0,75 м3 | F5: V=0,66 м3 | G5: Контейнеры для раздельного накопления ТКО | J5: V=1,1 м3 | K5: V=0,75 м3 | L5: V=8 м3 | M5: Заглубленного типа | N5: Контейнеры для раздельного накопления ТКО
A6: село Алымка
A7: 1 | B7: с.Алымка, ул. Центральная, 4 | C7: Муниципальное казенное учреждение «Управление территориями Уватского муниципального округа». Адрес: 626170, Тюменская область, м. р-н Уватский, с. п. Уватское, с. Уват, ул. Ленина, д. 77, ОГРН 1257200017579 | D7: 1 | H7: ж/б плита | I7: 36 | O7: Муниципальное казенное учреждение «Управление территориями Уватского муниципального округа». Адрес: 626170, Тюменская область, м. р-н Уватский, с. п. Уватское, с. Уват, ул. Ленина, д. 77, ОГРН 1257200017579 | P7: Объекты жилого и нежилого фонда, правообладателями которых не созданы индивидуальные места накопления ТКО в границах территорий: с.Алымка, ул.Центральная, 2, 4, 6, 8, 10; АО Почта России; ГБУЗ ТО "Областная больница №20"
A8: 2 | B8: с.Алымка, ул. Центральная, 25 | C8: Муниципальное казенное учреждение «Управление территориями Уватского муниципального округа». Адрес: 626170, Тюменская область, м. р-н Уватский, с. п. Уватское, с. Уват, ул. Ленина, д. 77, ОГРН 1257200017579 | D8: 2 | H8: ж/б плита | I8: 24 | O8: Муниципальное казенное учреждение «Управление территориями Уватского муниципального округа». Адрес: 626170, Тюменская область, м. р-н Уватский, с. п. Уватское, с. Уват, ул. Ленина, д. 77, ОГРН 1257200017579 | P8: Объекты жилого и нежилого фонда, правообладателями которых не созданы индивидуальные места накопления ТКО в границах территорий: с.Алымка, ул.Центральная, 10б, 12а, 12б, 12, 14, 17, 18, 19, 20, 21, 23, 25, 27, 27а, 29
A9: 3 | B9: с.Алымка, ул. Центральная, 39 | C9: Муниципальное казенное учреждение «Управление территориями Уватского муниципального округа». Адрес: 626170, Тюменская область, м. р-н Уватский, с. п. Уватское, с. Уват, ул. Ленина, д. 77, ОГРН 1257200017579 | D9: 1 | H9: ж/б плита | I9: 36 | O9: Муниципальное казенное учреждение «Управление территориями Уватского муниципального округа». Адрес: 626170, Тюменская область, м. р-н Уватский, с. п. Уватское, с. Уват, ул. Ленина, д. 77, ОГРН 1257200017579 | P9: Объекты жилого и нежилого фонда, правообладателями которых не созданы индивидуальные места накопления ТКО в границах территорий: с.Алымка, ул.Центральная, 26, 28, 31, 33, 34, 35, 37, 38, 39, 39а, 40, 41, 43, 45, 47
A10: 4 | B10: с.Алымка, ул. Механизаторов, 22 | C10: Муниципальное казенное учреждение «Управление территориями Уватского муниципального округа». Адрес: 626170, Тюменская область, м. р-н Уватский, с. п. Уватское, с. Уват, ул. Ленина, д. 77, ОГРН 1257200017579 | D10: 1 | H10: ж/б плита | I10: 36 | O10: Муниципальное казенное учреждение «Управление территориями Уватского муниципального округа». Адрес: 626170, Тюменская область, м. р-н Уватский, с. п. Уватское, с. Уват, ул. Ленина, д. 77, ОГРН 1257200017579 | P10: Объекты жилого и нежилого фонда, правообладателями которых не созданы индивидуальные места накопления ТКО в границах территорий: с.Алымка, ул.Центральная, 1, 3, 5, 7, 9, 11, 15; ул.Механизаторов 11, 14, 16, 17, 18, 23, 24; ООО "Селенга"
A11: 5 | B11: с.Алымка, ул. Механизаторов,33 | C11: Муниципальное казенное учреждение «Управление территориями Уватского муниципального округа». Адрес: 626170, Тюменская область, м. р-н Уватский, с. п. Уватское, с. Уват, ул. Ленина, д. 77, ОГРН 1257200017579 | D11: 1 | H11: ж/б плита | I11: 36 | O11: Муниципальное казенное учреждение «Управление территориями Уватского муниципального округа». Адрес: 626170, Тюменская область, м. р-н Уватский, с. п. Уватское, с. Уват, ул. Ленина, д. 77, ОГРН 1257200017579 | P11: Объекты жилого и нежилого фонда, правообладателями которых не созданы индивидуальные места накопления ТКО в границах территорий: с.Алымка, ул.Механизаторов 27, 30, 31, 33, 35, 37
A12: 6 | B12: с.Алымка, ул.Механизаторов, 1 | C12: Муниципальное казенное учреждение «Управление территориями Уватского муниципального округа». Адрес: 626170, Тюменская область, м. р-н Уватский, с. п. Уватское, с. Уват, ул. Ленина, д. 77, ОГРН 1257200017579 | D12: 2 | H12: ж/б плита | I12: 36 | O12: Муниципальное казенное учреждение «Управление территориями Уватского муниципального округа». Адрес: 626170, Тюменская область, м. р-н Уватский, с. п. Уватское, с. Уват, ул. Ленина, д. 77, ОГРН 1257200017579 | P12: Объекты жилого и нежилого фонда, правообладателями которых не созданы индивидуальные места накопления ТКО в границах территорий: с.Алымка, ул.Механизаторов 1, 2, 3, 5, 6, 7; ул. Молодежная 1, 2, 3, 5, 6, 8, 9, 10
A13: 7 | B13: с.Алымка, ул.Центральная, 31 | C13: Индивидуальный предприниматель Алексеенко Андрей Николаевич, адрес: 626170, Тюменская область, Уватский район, село Уват, улица Коммунальная, 5; ОГРНИП 304720616900116 | D13: 1 | H13: асфальтобетонное покрытие | I13: 2 | O13: Индивидуальный предприниматель Алексеенко Андрей Николаевич, адрес: 626170, Тюменская область, Уватский район, село Уват, улица Коммунальная, 5; ОГРНИП 304720616900116 | P13: магазин
A14: 8 | B14: Тюменская обл, Уватский р-н, мобильная туристическая база | C14: СШ УМР МАУ ДО | D14: 2 | H14: асфальтобетонное покрытие | I14: 6 | O14: СШ УМР МАУ ДО | P14: нежилое здание
A15: 9 | B15: с.Алымка, ул.Центральная, 10б | C15: Муниципальное казенное учреждение «Управление территориями Уватского муниципального округа». Адрес: 626170, Тюменская область, м. р-н Уватский, с. п. Уватское, с. Уват, ул. Ленина, д. 77, ОГРН 1257200017579 | E15: 1 | H15: асфальтобетонное покрытие | I15: 6 | O15: Муниципальное казенное учреждение «Управление территориями Уватского муниципального округа». Адрес: 626170, Тюменская область, м. р-н Уватский, с. п. Уватское, с. Уват, ул. Ленина, д. 77, ОГРН 1257200017579 | P15: Объекты жилого и нежилого фонда, правообладателями которых не созданы индивидуальные места накопления ТКО в границах территорий: с.Алымка, ул.Центральная
A16: 10 | B16: с.Алымка, ул.Центральная, 26 | C16: Муниципальное казенное учреждение «Управление территориями Уватского муниципального округа». Адрес: 626170, Тюменская область, м. р-н Уватский, с. п. Уватское, с. Уват, ул. Ленина, д. 77, ОГРН 1257200017579 | D16: 1 | H16: асфальтобетонное покрытие | I16: 6 | O16: Муниципальное казенное учреждение «Управление территориями Уватского муниципального округа». Адрес: 626170, Тюменская область, м. р-н Уватский, с. п. Уватское, с. Уват, ул. Ленина, д. 77, ОГРН 1257200017579 | P16: Объекты жилого и нежилого фонда, правообладателями которых не созданы индивидуальные места накопления ТКО в границах территорий: с.Алымка, ул.Центральная
A17: деревня Яр
A18: 11 | B18: д.Яр, ул.Механизаторов, 12 | C18: Муниципальное казенное учреждение «Управление территориями Уватского муниципального округа». Адрес: 626170, Тюменская область, м. р-н Уватский, с. п. Уватское, с. Уват, ул. Ленина, д. 77, ОГРН 1257200017579 | D18: 2 | H18: ж/б плита | I18: 36 | O18: Муниципальное казенное учреждение «Управление территориями Уватского муниципального округа». Адрес: 626170, Тюменская область, м. р-н Уватский, с. п. Уватское, с. Уват, ул. Ленина, д. 77, ОГРН 1257200017579 | P18: Объекты жилого и нежилого фонда, правообладателями которых не созданы индивидуальные места накопления ТКО в границах территорий: с.Яр, ул.Механизаторов 12,13, 14, 18, 20; ул. Молодежная 2, 7, 8, 7а, 13, 14, 15, 16, 17
A19: село Горнослинкино
A20: 12 | B20: с Горнослинкино ул. Свердлова, 7 | C20: Муниципальное казенное учреждение «Управление территориями Уватского муниципального округа». Адрес: 626170, Тюменская область, м. р-н Уватский, с. п. Уватское, с. Уват, ул. Ленина, д. 77, ОГРН 1257200017579 | D20: 2 | H20: ж/б плита | I20: 36 | O20: Муниципальное казенное учреждение «Управление территориями Уватского муниципального округа». Адрес: 626170, Тюменская область, м. р-н Уватский, с. п. Уватское, с. Уват, ул. Ленина, д. 77, ОГРН 1257200017579 | P20: Объекты жилого и нежилого фонда, правообладателями которых не созданы индивидуальные места накопления ТКО в границах территорий: с.Горнослинкино, ул.Свердлова 1/1, 1/2, 1б, 2, 3, 4, 5, 6, 7, 9, 10, 13; пер.Полевой 2а, 4, 6, 8
A21: 13 | B21: с Горнослинкино ул. Свердлова, 18 | C21: Муниципальное казенное учреждение «Управление территориями Уватского муниципального округа». Адрес: 626170, Тюменская область, м. р-н Уватский, с. п. Уватское, с. Уват, ул. Ленина, д. 77, ОГРН 1257200017579 | D21: 2 | H21: ж/б плита | I21: 48 | O21: Муниципальное казенное учреждение «Управление территориями Уватского муниципального округа». Адрес: 626170, Тюменская область, м. р-н Уватский, с. п. Уватское, с. Уват, ул. Ленина, д. 77, ОГРН 1257200017579 | P21: Объекты жилого и нежилого фонда, правообладателями которых не созданы индивидуальные места накопления ТКО в границах территорий: с.Горнослинкино, ул.Свердлова 14, 16, 17, 18, 19/1, 19/2, 21, 23а, 25, 26, 27, 28, 29, 31, 33
A22: 14 | B22: с Горнослинкино ул. Свердлова, 66 | C22: Муниципальное казенное учреждение «Управление территориями Уватского муниципального округа». Адрес: 626170, Тюменская область, м. р-н Уватский, с. п. Уватское, с. Уват, ул. Ленина, д. 77, ОГРН 1257200017579 | D22: 2 | H22: ж/б плита | I22: 48 | O22: Муниципальное казенное учреждение «Управление территориями Уватского муниципального округа». Адрес: 626170, Тюменская область, м. р-н Уватский, с. п. Уватское, с. Уват, ул. Ленина, д. 77, ОГРН 1257200017579 | P22: Объекты жилого и нежилого фонда, правообладателями которых не созданы индивидуальные места накопления ТКО в границах территорий: с.Горнослинкино, ул.Свердлова 60, 62, 63, 64, 65/1, 65/2, 66
A23: 15 | B23: с Горнослинкино ул. Свердлова, 71 | C23: Муниципальное казенное учреждение «Управление территориями Уватского муниципального округа». Адрес: 626170, Тюменская область, м. р-н Уватский, с. п. Уватское, с. Уват, ул. Ленина, д. 77, ОГРН 1257200017579 | D23: 2 | H23: ж/б плита | I23: 48 | O23: Муниципальное казенное учреждение «Управление территориями Уватского муниципального округа». Адрес: 626170, Тюменская область, м. р-н Уватский, с. п. Уватское, с. Уват, ул. Ленина, д. 77, ОГРН 1257200017579 | P23: Объекты жилого и нежилого фонда, правообладателями которых не созданы индивидуальные места накопления ТКО в границах территорий: с.Горнослинкино, ул.Свердлова 67/1, 67/2, 68, 68а, 70, 71, 70а/1, 70а/2, 70а/3, 70а/4, 70б, 71а
A24: 16 | B24: с Горнослинкино ул. Северная, 9 | C24: Муниципальное казенное учреждение «Управление территориями Уватского муниципального округа». Адрес: 626170, Тюменская область, м. р-н Уватский, с. п. Уватское, с. Уват, ул. Ленина, д. 77, ОГРН 1257200017579 | D24: 2 | H24: ж/б плита | I24: 48 | O24: Муниципальное казенное учреждение «Управление территориями Уватского муниципального округа». Адрес: 626170, Тюменская область, м. р-н Уватский, с. п. Уватское, с. Уват, ул. Ленина, д. 77, ОГРН 1257200017579 | P24: Объекты жилого и нежилого фонда, правообладателями которых не созданы индивидуальные места накопления ТКО в границах территорий: с.Горнослинкино, ул.Северная 7/1, 7/2, 9, 11/1, 11/2, 11а/1
A25: 17 | B25: с Горнослинкино ул. Северная, 17 | C25: Муниципальное казенное учреждение «Управление территориями Уватского муниципального округа». Адрес: 626170, Тюменская область, м. р-н Уватский, с. п. Уватское, с. Уват, ул. Ленина, д. 77, ОГРН 1257200017579 | D25: 2 | H25: ж/б плита | I25: 36 | O25: Муниципальное казенное учреждение «Управление территориями Уватского муниципального округа». Адрес: 626170, Тюменская область, м. р-н Уватский, с. п. Уватское, с. Уват, ул. Ленина, д. 77, ОГРН 1257200017579 | P25: Объекты жилого и нежилого фонда, правообладателями которых не созданы индивидуальные места накопления ТКО в границах территорий: с.Горнослинкино, ул.Северная 12, 12а, 14, 15/1, 15/2, 15а/1, 15а/2, 17/1, 17/2, 19, 21/1, 21/2, 23
A26: 18 | B26: с.Горнослинкино, переулок Полевой, 2 | C26: Муниципальное казенное учреждение «Управление территориями Уватского муниципального округа». Адрес: 626170, Тюменская область, м. р-н Уватский, с. п. Уватское, с. Уват, ул. Ленина, д. 77, ОГРН 1257200017579 | D26: 2 | H26: ж/б плита | I26: 36 | O26: Муниципальное казенное учреждение «Управление территориями Уватского муниципального округа». Адрес: 626170, Тюменская область, м. р-н Уватский, с. п. Уватское, с. Уват, ул. Ленина, д. 77, ОГРН 1257200017579 | P26: Объекты жилого и нежилого фонда, правообладателями которых не созданы индивидуальные места накопления ТКО в границах территорий: с.Горнослинкино, пер.Полевой 1, 2; ул.Свердлова 10, 12, 15; пер.Караульный 1, 3, 4, 4а, 5, 6, 7, 8, 9, 9а, 11
A27: 19 | B27: с.Горнослинкино, ул. Свердлова, 57 | C27: Муниципальное казенное учреждение «Управление территориями Уватского муниципального округа». Адрес: 626170, Тюменская область, м. р-н Уватский, с. п. Уватское, с. Уват, ул. Ленина, д. 77, ОГРН 1257200017579 | D27: 2 | H27: ж/б плита | I27: 36 | O27: Муниципальное казенное учреждение «Управление территориями Уватского муниципального округа». Адрес: 626170, Тюменская область, м. р-н Уватский, с. п. Уватское, с. Уват, ул. Ленина, д. 77, ОГРН 1257200017579 | P27: Объекты жилого и нежилого фонда, правообладателями которых не созданы индивидуальные места накопления ТКО в границах территорий: с.Горнослинкино, ул.Свердлова 44, 45, 46, 47, 48, 50, 52, 54, 56, 57, 58, 59, 61, 33
A28: 20 | B28: с.Горнослинкино, ул. Свердлова, 81 | C28: Муниципальное казенное учреждение «Управление территориями Уватского муниципального округа». Адрес: 626170, Тюменская область, м. р-н Уватский, с. п. Уватское, с. Уват, ул. Ленина, д. 77, ОГРН 1257200017579 | D28: 2 | H28: ж/б плита | I28: 36 | O28: Муниципальное казенное учреждение «Управление территориями Уватского муниципального округа». Адрес: 626170, Тюменская область, м. р-н Уватский, с. п. Уватское, с. Уват, ул. Ленина, д. 77, ОГРН 1257200017579 | P28: Объекты жилого и нежилого фонда, правообладателями которых не созданы индивидуальные места накопления ТКО в границах территорий: с.Горнослинкино, ул.Свердлова 72, 73, 74, 75, 77, 78, 80, 81, 91, 97, 99, 101
A29: 21 | B29: с.Горнослинкино, ул.Нагорная, 13 | C29: Муниципальное казенное учреждение «Управление территориями Уватского муниципального округа». Адрес: 626170, Тюменская область, м. р-н Уватский, с. п. Уватское, с. Уват, ул. Ленина, д. 77, ОГРН 1257200017579 | D29: 2 | H29: ж/б плита | I29: 36 | O29: Муниципальное казенное учреждение «Управление территориями Уватского муниципального округа». Адрес: 626170, Тюменская область, м. р-н Уватский, с. п. Уватское, с. Уват, ул. Ленина, д. 77, ОГРН 1257200017579 | P29: Объекты жилого и нежилого фонда, правообладателями которых не созданы индивидуальные места накопления ТКО в границах территорий: с.Горнослинкино, ул.Нагорная 8, 9, 10, 11д, 14, 15, 16, 17, 18, 19, 21, 23
A30: 22 | B30: с.Горнослинкино, ул.Нагорная, 38 | C30: Муниципальное казенное учреждение «Управление территориями Уватского муниципального округа». Адрес: 626170, Тюменская область, м. р-н Уватский, с. п. Уватское, с. Уват, ул. Ленина, д. 77, ОГРН 1257200017579 | D30: 2 | H30: ж/б плита | I30: 36 | O30: Муниципальное казенное учреждение «Управление территориями Уватского муниципального округа». Адрес: 626170, Тюменская область, м. р-н Уватский, с. п. Уватское, с. Уват, ул. Ленина, д. 77, ОГРН 1257200017579 | P30: Объекты жилого и нежилого фонда, правообладателями которых не созданы индивидуальные места накопления ТКО в границах территорий: с.Горнослинкино, ул.Нагорная 36, 37, 38, 39, 40, 41, 42, 43, 44а, 45, 46, 47, 49, 53
A31: 23 | B31: с.Горнослинкино, ул.Северная, 20б | C31: Муниципальное казенное учреждение «Управление территориями Уватского муниципального округа». Адрес: 626170, Тюменская область, м. р-н Уватский, с. п. Уватское, с. Уват, ул. Ленина, д. 77, ОГРН 1257200017579 | D31: 2 | H31: ж/б плита | I31: 36 | O31: Муниципальное казенное учреждение «Управление территориями Уватского муниципального округа». Адрес: 626170, Тюменская область, м. р-н Уватский, с. п. Уватское, с. Уват, ул. Ленина, д. 77, ОГРН 1257200017579 | P31: Объекты жилого и нежилого фонда, правообладателями которых не созданы индивидуальные места накопления ТКО в границах территорий: с.Горнослинкино, ул.Северная 16, 18/1, 18/2, 20/1, 20/2, 20б, 22, 25/1, 25/2, 27/1, 27/2, 29, 31/1, 31/2
... A34: 26 | B34: с.Горнослинкино, ул.свердлова, 42а | C34: Индивидуальный предприниматель Алексеенко Андрей Николаевич, адрес: 626170, Тюменская область, Уватский район, село Уват, улица Коммунальная, 5; ОГРНИП 304720616900116 | D34: 1 | H34: асфальтобетонное покрытие | I34: 2 | O34: Индивидуальный предприниматель Алексеенко Андрей Николаевич, адрес: 626170, Тюменская область, Уватский район, село Уват, улица Коммунальная, 5; ОГРНИП 304720616900116 | P34: магазин
A35: 27 | B35: с.Горнослинкино, ул. Северная, 3 | C35: Муниципальное казенное учреждение «Управление территориями Уватского муниципального округа». Адрес: 626170, Тюменская область, м. р-н Уватский, с. п. Уватское, с. Уват, ул. Ленина, д. 77, ОГРН 1257200017579 | H35: ж/б плита | O35: Муниципальное казенное учреждение «Управление территориями Уватского муниципального округа». Адрес: 626170, Тюменская область, м. р-н Уватский, с. п. Уватское, с. Уват, ул. Ленина, д. 77, ОГРН 1257200017579 | P35: Объекты жилого и нежилого фонда, правообладателями которых не созданы индивидуальные места накопления ТКО в границах территорий: с.Горнослинкино, ул.Северная 1а, 2, 4/1, 4/2, 6, 8/1, 8/2
A36: 28 | B36: с. Горнослинкино, ул.Нагорная, 1 | C36: Муниципальное казенное учреждение «Управление территориями Уватского муниципального округа». Адрес: 626170, Тюменская область, м. р-н Уватский, с. п. Уватское, с. Уват, ул. Ленина, д. 77, ОГРН 1257200017579 | H36: ж/б плита | O36: Муниципальное казенное учреждение «Управление территориями Уватского муниципального округа». Адрес: 626170, Тюменская область, м. р-н Уватский, с. п. Уватское, с. Уват, ул. Ленина, д. 77, ОГРН 1257200017579 | P36: Объекты жилого и нежилого фонда, правообладателями которых не созданы индивидуальные места накопления ТКО в границах территорий: с.Горнослинкино, ул.Нагорная 1, 2, 3, 4, 5, 6, 7
A37: 29 | B37: с. Горнослинкино, ул.Нагорная, 29 | C37: Муниципальное казенное учреждение «Управление территориями Уватского муниципального округа». Адрес: 626170, Тюменская область, м. р-н Уватский, с. п. Уватское, с. Уват, ул. Ленина, д. 77, ОГРН 1257200017579 | H37: ж/б плита | O37: Муниципальное казенное учреждение «Управление территориями Уватского муниципального округа». Адрес: 626170, Тюменская область, м. р-н Уватский, с. п. Уватское, с. Уват, ул. Ленина, д. 77, ОГРН 1257200017579 | P37: Объекты жилого и нежилого фонда, правообладателями которых не созданы индивидуальные места накопления ТКО в границах территорий: с.Горнослинкино, ул.Нагорная 20, 22, 24, 25, 26, 28, 30а, 33/1, 32, 34/2, 35/1, 35/2
A38: 30 | B38: с.Горнослинкино, ул. Свердлова, 39 | C38: Муниципальное казенное учреждение «Управление территориями Уватского муниципального округа». Адрес: 626170, Тюменская область, м. р-н Уватский, с. п. Уватское, с. Уват, ул. Ленина, д. 77, ОГРН 1257200017579 | H38: ж/б плита | O38: Муниципальное казенное учреждение «Управление территориями Уватского муниципального округа». Адрес: 626170, Тюменская область, м. р-н Уватский, с. п. Уватское, с. Уват, ул. Ленина, д. 77, ОГРН 1257200017579 | P38: Объекты жилого и нежилого фонда, правообладателями которых не созданы индивидуальные места накопления ТКО в границах территорий: с.Горнослинкино, ул.Свердлова 30, 35, 32, 38/1, 38/2, 39, 40/1, 40/2, 40/3, 40/4, 41, 43; ООО "ЕЛЕНА"; ГБУЗ ТО "Областная больница №20"
A39: 31 | B39: с.Горнослинкино, ул.Северная, 16 | C39: Муниципальное казенное учреждение «Управление территориями Уватского муниципального округа». Адрес: 626170, Тюменская область, м. р-н Уватский, с. п. Уватское, с. Уват, ул. Ленина, д. 77, ОГРН 1257200017579 | D39: 1 | H39: асфальтобетонное покрытие | I39: 6 | O39: Муниципальное казенное учреждение «Управление территориями Уватского муниципального округа». Адрес: 626170, Тюменская область, м. р-н Уватский, с. п. Уватское, с. Уват, ул. Ленина, д. 77, ОГРН 1257200017579 | P39: Объекты жилого и нежилого фонда, правообладателями которых не созданы индивидуальные места накопления ТКО в границах территорий: с.Горнослинкино, ул.Севернаая, 16
G40: село Демьянское
A41: 32 | B41: с. Демьянское ул. Молодёжная, 14 | C41: Муниципальное казенное учреждение «Управление территориями Уватского муниципального округа». Адрес: 626170, Тюменская область, м. р-н Уватский, с. п. Уватское, с. Уват, ул. Ленина, д. 77, ОГРН 1257200017579 | D41: 4 | H41: ж/б плита | I41: 36 | O41: Муниципальное казенное учреждение «Управление территориями Уватского муниципального округа». Адрес: 626170, Тюменская область, м. р-н Уватский, с. п. Уватское, с. Уват, ул. Ленина, д. 77, ОГРН 1257200017579 | P41: Объекты жилого и нежилого фонда, правообладателями которых не созданы индивидуальные места накопления ТКО в границах территорий: с.Демьянское, ул.Молодежная 2, 2а,3, 4, 5/1, 5/2, 5а, 5б, 6/1, 6/2, 7, 8, 9, 10/1, 10/2, 11, 12, 12а, 13, 14/1, 14/2, 14а, 15, 20, 22, 23; ул.Солнечная 1, 2, 3, 4, 5, 6, 7, 8, 9, 10, 11, 12, 14, 16, 18, 18а, 18б, 18в; ул.Иртышская 2, 4, 6, 8, 10, 12, 14, 16; пер.Березовый 6, 14; ул.Дачная 1а, 1б, 2, 3, 3а, 3б, 4, 5, 6, 7, 8, 9, 9а, 10, 10б 11, 12, 14,, 18
A42: 33 | B42: с. Демьянское ул. Хвойная 1в | C42: Муниципальное казенное учреждение «Управление территориями Уватского муниципального округа». Адрес: 626170, Тюменская область, м. р-н Уватский, с. п. Уватское, с. Уват, ул. Ленина, д. 77, ОГРН 1257200017579 | D42: 2 | H42: ж/б плита | I42: 36 | O42: Муниципальное казенное учреждение «Управление территориями Уватского муниципального округа». Адрес: 626170, Тюменская область, м. р-н Уватский, с. п. Уватское, с. Уват, ул. Ленина, д. 77, ОГРН 1257200017579 | P42: Объекты жилого и нежилого фонда, правообладателями которых не созданы индивидуальные места накопления ТКО в границах территорий: с.Демьянское, ул.Хвойная 1/1, 1/2, 1г, 1в, 1б, 3/1, 3/2, 4, 5/1, 5/2; ул.Кедровая 1/1, 1/2, 2а, 3/1, 3/2, 4/1, 4/2, 4/3, 5/1, 5/2, 5/3, 6/1, 6/2, 6/3, 2, 1в, 2б, 1а; ул.Нагорная 2, 3, 4, 7/, 7/2, 8, 9, 9а, 6, 7в; ООО ЛИДЕРГРУПП; ООО КАПИТАЛСТРОЙ
A43: 34 | B43: с. Демьянское, ул. Нефтяников, 12 | C43: Муниципальное казенное учреждение «Управление территориями Уватского муниципального округа». Адрес: 626170, Тюменская область, м. р-н Уватский, с. п. Уватское, с. Уват, ул. Ленина, д. 77, ОГРН 1257200017579 | D43: 2 | H43: ж/б плита | I43: 36 | J43: 1 | O43: Муниципальное казенное учреждение «Управление территориями Уватского муниципального округа». Адрес: 626170, Тюменская область, м. р-н Уватский, с. п. Уватское, с. Уват, ул. Ленина, д. 77, ОГРН 1257200017579 | P43: Объекты жилого и нежилого фонда, правообладателями которых не созданы индивидуальные места накопления ТКО в границах территорий: с.Демьянское, ул.Нефтяников 1, 2, 3/1, 3/2, 4, 4а, 5/1, 5/2, 6/1, 6/2, 7/1, 7/2, 8/1, 8/2, 9/1, 9/2, 10/1, 10/2, 11/1, 11/2, 12/1, 12/2; ул.Рачевская, 1, 2, 3, 4, 5, 6/1, 6/2, 7, 8/1, 8/2, 9/1, 9/2, 11; ул.Полевая 1, 3, 5, 7, 9, 11, 13, 15, 17, 19, 21; ул.Дальняя 1, 3, 5
A44: 35 | B44: с. Демьянское, ул. НПС, 25 | C44: Муниципальное казенное учреждение «Управление территориями Уватского муниципального округа». Адрес: 626170, Тюменская область, м. р-н Уватский, с. п. Уватское, с. Уват, ул. Ленина, д. 77, ОГРН 1257200017579 | D44: 3 | H44: ж/б плита | I44: 60 | O44: Муниципальное казенное учреждение «Управление территориями Уватского муниципального округа». Адрес: 626170, Тюменская область, м. р-н Уватский, с. п. Уватское, с. Уват, ул. Ленина, д. 77, ОГРН 1257200017579 | P44: Объекты жилого и нежилого фонда, правообладателями которых не созданы индивидуальные места накопления ТКО в границах территорий: с.Демьянское, ул.НПС 24, 25, 27, 27г, 28, 37в, 38, 36; ул.Центральная, 1, 3№; ГБУЗ ТО "Областная больница №20"; ИП Алексеенко А.Н;
A45: 36 | B45: с. Демьянское, ул. Доронина, 6 | C45: Муниципальное казенное учреждение «Управление территориями Уватского муниципального округа». Адрес: 626170, Тюменская область, м. р-н Уватский, с. п. Уватское, с. Уват, ул. Ленина, д. 77, ОГРН 1257200017579 | D45: 4 | H45: ж/б плита | I45: 36 | O45: Муниципальное казенное учреждение «Управление территориями Уватского муниципального округа». Адрес: 626170, Тюменская область, м. р-н Уватский, с. п. Уватское, с. Уват, ул. Ленина, д. 77, ОГРН 1257200017579 | P45: Объекты жилого и нежилого фонда, правообладателями которых не созданы индивидуальные места накопления ТКО в границах территорий: с.Демьянское, ул.Доронина 2, 6, 4/1, 4/2, 8, 6а, 9, 11, 12, 13, 14, 14а, 15, 16, 17, 18, 19, 20, 21, 23, 23а, 24, 37, 27, 29, 33, 35/1, 35/2,
A46: 37 | B46: с. Демьянское, ул. Доронина, 26 | C46: Муниципальное казенное учреждение «Управление территориями Уватского муниципального округа». Адрес: 626170, Тюменская область, м. р-н Уватский, с. п. Уватское, с. Уват, ул. Ленина, д. 77, ОГРН 1257200017579 | D46: 4 | H46: ж/б плита | I46: 36 | O46: Муниципальное казенное учреждение «Управление территориями Уватского муниципального округа». Адрес: 626170, Тюменская область, м. р-н Уватский, с. п. Уватское, с. Уват, ул. Ленина, д. 77, ОГРН 1257200017579 | P46: Объекты жилого и нежилого фонда, правообладателями которых не созданы индивидуальные места накопления ТКО в границах территорий: с.Демьянское, ул.Лопарева 1а, 2, 2б, 4а/1, 4а/2, 5, 6, 6г, 7, 7б, 8, 9, 9д, 10, 11, 12, 16, 17, 18/1, 18/2, 19, 19а, 20, 22, 23, 24, 25, 26, 27, 28, 34; ул.Успенская 3/1, 3/2, 7, 7а, 9, 9а, 9б, 9г, 11.
A47: 38 | B47: с. Демьянское, ул. Строителей, 2 | C47: Муниципальное казенное учреждение «Управление территориями Уватского муниципального округа». Адрес: 626170, Тюменская область, м. р-н Уватский, с. п. Уватское, с. Уват, ул. Ленина, д. 77, ОГРН 1257200017579 | D47: 3 | H47: ж/б плита | I47: 36 | O47: Муниципальное казенное учреждение «Управление территориями Уватского муниципального округа». Адрес: 626170, Тюменская область, м. р-н Уватский, с. п. Уватское, с. Уват, ул. Ленина, д. 77, ОГРН 1257200017579 | P47: Объекты жилого и нежилого фонда, правообладателями которых не созданы индивидуальные места накопления ТКО в границах территорий: с.Демьянское, ул. Строителей 3, 5, 6, 7, 8, 9; ул.Новосельская 1, 3,4, 5, 9, 11, 12, 13; ул.Энтузиастов 1, 1а, 2, 5/2, 6, 7/1, 7/2, 8, 9/1, 9/2, 10, 11, 11а; ул.Северная 2а, 9, 10, 11; ИП Алексеенко А.Н.
A48: 39 | B48: с. Демьянское, ул. Нагорная, 13, ЛПДС "Демьянское" | C48: Акционерное общество "Транснефть-Сибирь" филиал Тобольского управления магистральных нефтепроводов Адрес: 625000, Тюменская область г. Тюмень, ул. Республики, д. 139 , ОГРН 1027200789220 | E48: 4 | H48: бетон | I48: 6 | O48: Акционерное общество "Транснефть-Сибирь" филиал Тобольского управления магистральных нефтепроводов Адрес: 625000, Тюменская область г. Тюмень, ул. Республики, д. 139 , ОГРН 1027200789220 | P48: Станция ЛПДС "Демьянское"
C49: Акционерное общество "Транснефть-Сибирь" филиал Тобольского управления магистральных нефтепроводов Адрес: 625000, Тюменская область г. Тюмень, ул. Республики, д. 139 , ОГРН 1027200789220
C50: Акционерное общество "Транснефть-Сибирь" филиал Тобольского управления магистральных нефтепроводов Адрес: 625000, Тюменская область г. Тюмень, ул. Республики, д. 139 , ОГРН 1027200789220
A51: 40 | B51: с. Демьянское, ул. НПС, 16 | C51: Муниципальное казенное учреждение «Управление территориями Уватского муниципального округа». Адрес: 626170, Тюменская область, м. р-н Уватский, с. п. Уватское, с. Уват, ул. Ленина, д. 77, ОГРН 1257200017579 | D51: 4 | H51: ж/б плита | I51: 36 | O51: Муниципальное казенное учреждение «Управление территориями Уватского муниципального округа». Адрес: 626170, Тюменская область, м. р-н Уватский, с. п. Уватское, с. Уват, ул. Ленина, д. 77, ОГРН 1257200017579 | P51: Объекты жилого и нежилого фонда, правообладателями которых не созданы индивидуальные места накопления ТКО в границах территорий: с.Демьянское, ул. НПС 1, 2, 4, 5, 6, 7, 11, 12, 16, 17, 18, 19, 20, 22, 15; ул.Доронина 1а, 1б, 1в, 1д, 1е,1к, 2г, 7б, 7д, 12л, 29г.
A52: 41 | B52: с. Демьянское , ул. НПС. 36А | C52: Индивидуальный предприниматель Хрипченко Татьяна Ивановна, Тюменская область, Уватский район, поселок Демьянка, д.3 кв.33 , ОГРН 309720612000020 | D52: 2 | H52: асфальтобетонное | I52: 3 | O52: Индивидуальный предприниматель Хрипченко Татьяна Ивановна, Тюменская область, Уватский район, поселок Демьянка, д.3 кв.33 , ОГРН 309720612000020 | P52: магазин
A53: 42 | B53: с. Демьянское, ул. НПС, 43 | C53: Муниципальное казенное учреждение «Управление территориями Уватского муниципального округа». Адрес: 626170, Тюменская область, м. р-н Уватский, с. п. Уватское, с. Уват, ул. Ленина, д. 77, ОГРН 1257200017579 | D53: 4 | H53: ж/б плита | I53: 60 | O53: Муниципальное казенное учреждение «Управление территориями Уватского муниципального округа». Адрес: 626170, Тюменская область, м. р-н Уватский, с. п. Уватское, с. Уват, ул. Ленина, д. 77, ОГРН 1257200017579 | P53: Объекты жилого и нежилого фонда, правообладателями которых не созданы индивидуальные места накопления ТКО в границах территорий: с.Демьянское, ул. НПС 1, 2, 4, 5, 6, 7, 11, 12, 16, 17, 18, 19, 20, 22, 15/2; ул.Доронина 1а, 1б, 1в, 1д, 1е, 1к, 2г, 7б, 7д, 12л, 29; ИП Лукиянчикова Т.Г
A54: 43 | B54: с.Демьянское, ул. НПС, 32 | C54: Муниципальное казенное учреждение «Управление территориями Уватского муниципального округа». Адрес: 626170, Тюменская область, м. р-н Уватский, с. п. Уватское, с. Уват, ул. Ленина, д. 77, ОГРН 1257200017579 | D54: 2 | H54: ж/б плита | I54: 36 | O54: Муниципальное казенное учреждение «Управление территориями Уватского муниципального округа». Адрес: 626170, Тюменская область, м. р-н Уватский, с. п. Уватское, с. Уват, ул. Ленина, д. 77, ОГРН 1257200017579 | P54: Объекты жилого и нежилого фонда, правообладателями которых не созданы индивидуальные места накопления ТКО в границах территорий: с.Демьянское, ул. НПС 32, 30б; ул.Энергетиков 3, 4, 5, 6, 7, 5б, 5ж, 5е, 5д, 7а; ул.Карбышева 1, 3, 5, 7, 9, 10, 11, 12, 13, 14, 16, 26, 42, 40, 38, 24, 34, 36, 19, 7а, 8, 15, 17, 18, 20, 30, 32;
A55: 44 | B55: с. Демьянское, ул. Карбышева, 32 | C55: Муниципальное казенное учреждение «Управление территориями Уватского муниципального округа». Адрес: 626170, Тюменская область, м. р-н Уватский, с. п. Уватское, с. Уват, ул. Ленина, д. 77, ОГРН 1257200017579 | D55: 3 | H55: ж/б плита | I55: 36 | O55: Муниципальное казенное учреждение «Управление территориями Уватского муниципального округа». Адрес: 626170, Тюменская область, м. р-н Уватский, с. п. Уватское, с. Уват, ул. Ленина, д. 77, ОГРН 1257200017579 | P55: Объекты жилого и нежилого фонда, правообладателями которых не созданы индивидуальные места накопления ТКО в границах территорий: с.Демьянское, ул.Новая 1, 2, 3, 3б, 4, 5, 6, 7, 8, 9, 9а, 10, 11, 12, 13, 14, 15, 16, 17, 18, 22, 24, 26, 28, 32, 34, 36, 38, 40, 44
A56: 45 | B56: с. Демьянское, ул.Строителей, 23 | C56: Муниципальное казенное учреждение «Управление территориями Уватского муниципального округа». Адрес: 626170, Тюменская область, м. р-н Уватский, с. п. Уватское, с. Уват, ул. Ленина, д. 77, ОГРН 1257200017579 | D56: 2 | H56: ж/б плита | I56: 36 | J56: 1 | O56: Муниципальное казенное учреждение «Управление территориями Уватского муниципального округа». Адрес: 626170, Тюменская область, м. р-н Уватский, с. п. Уватское, с. Уват, ул. Ленина, д. 77, ОГРН 1257200017579 | P56: Объекты жилого и нежилого фонда, правообладателями которых не созданы индивидуальные места накопления ТКО в границах территорий: с.Демьянское, ул.Строителей 14, 22, 12, 30, 21, 13, 15, 26, 28, 29, 16, 17, 18, 19, 31, 23, 33, 36, 39, 4, 2, 38, 24, 40; ул.Энтузиастов 12, 12а, 13, 14, 16, 22, 20; ул.Новосельская 15, 16, 18, 20, 21, 41
A57: 46 | B57: с. Демьянское, ул.Минская, 9 | C57: Муниципальное казенное учреждение «Управление территориями Уватского муниципального округа». Адрес: 626170, Тюменская область, м. р-н Уватский, с. п. Уватское, с. Уват, ул. Ленина, д. 77, ОГРН 1257200017579 | D57: 2 | H57: ж/б плита | I57: 36 | O57: Муниципальное казенное учреждение «Управление территориями Уватского муниципального округа». Адрес: 626170, Тюменская область, м. р-н Уватский, с. п. Уватское, с. Уват, ул. Ленина, д. 77, ОГРН 1257200017579 | P57: Объекты жилого и нежилого фонда, правообладателями которых не созданы индивидуальные места накопления ТКО в границах территорий: с.Демьянское, ул.Минская 1/1, 1/2, 2/1, 2/2, 3/1, 3/2, 5/1, 5/2, 6, 7/1, 7/2, 7/3, 8/1, 8/2, 9/1, 9/2, 9/3, 4а, 2в, 2б; ул.Лесная 2/1,2/2, 4/1, 4/2, 6/1, 6/2, 8/1, 8/2, 10/1, 10/2, 15, 27 ул.Шоссейная 8, 10
A58: 47 | B58: с. Демьянское, ул.Почтовая, 14 | C58: Муниципальное казенное учреждение «Управление территориями Уватского муниципального округа». Адрес: 626170, Тюменская область, м. р-н Уватский, с. п. Уватское, с. Уват, ул. Ленина, д. 77, ОГРН 1257200017579 | D58: 3 | H58: ж/б плита | I58: 36 | O58: Муниципальное казенное учреждение «Управление территориями Уватского муниципального округа». Адрес: 626170, Тюменская область, м. р-н Уватский, с. п. Уватское, с. Уват, ул. Ленина, д. 77, ОГРН 1257200017579 | P58: Объекты жилого и нежилого фонда, правообладателями которых не созданы индивидуальные места накопления ТКО в границах территорий: с.Демьянское, ул.Почтовая 1, 2, 3, 4, 4а, 5, 6а/1, 6а/2, 6б, 7, 8, 9, 10, 10, 11а, 12/1, 12/2, 14, 17, 18, 19, 19а, 19б/1, 19б/2, 20, 21, 25, 26, 30, 31, 32, 33, 35; ул.Гребнева 1, 1а, 4, 5, 6, 8, 9, 11, 13, 16, 22; ул.Береговая 6/2
A59: 48 | B59: с.Демьянское, ул.Нагорная, 12 | C59: Филиал Акционерного Общества "Связь объектов транспорта и добычи нефти" - "Западно - сибирское производственно - технического управления связи". Адрес: 626134, Тюменская область, Уватский район, село Демьянское, ул.Нагорная, 12, ОГРН 1027739420961 | D59: 1 | H59: ж/б плита | I59: 1 | J59: 1 | O59: Филиал Акционерного Общества "Связь объектов транспорта и добычи нефти" - "Западно - сибирское производственно - технического управления связи". Адрес: 626134, Тюменская область, Уватский район, село Демьянское, ул.Нагорная, 12, ОГРН 1027739420961 | P59: офисные и бытовые помещения организации
A60: 49 | B60: с.Демьянское, улица Нагорная 14 | C60: Тобольское территориально - производственное отделение филиала Акционерного Общества "Россети Тюмень" Тюменские электрические сети, адрес:626150 Тюменская область, г.Тобольск, микрорайон 7А, ОГРН: 1026800587399 | D60: 1 | H60: асфальтобетонное | I60: 6 | O60: Тобольское территориально - производственное отделение филиала Акционерного Общества "Россети Тюмень" Тюменские электрические сети, адрес:626150 Тюменская область, г.Тобольск, микрорайон 7А, ОГРН: 1026800587399 | P60: офисные и бытовые помещения организации
A61: 50 | B61: с.Демьянское, улица Доронина, 7а | C61: Индивидуальный предприниматель Алексеенко Андрей Николаевич, адрес: 626170, Тюменская область, Уватский район, село Уват, улица Коммунальная, 5; ОГРНИП 304720616900116 | D61: 1 | H61: асфальтобетонное | I61: 2 | O61: Индивидуальный предприниматель Алексеенко Андрей Николаевич, адрес: 626170, Тюменская область, Уватский район, село Уват, улица Коммунальная, 5; ОГРНИП 304720616900116 | P61: магазин
A62: 51 | B62: с.Демьянское, улица НПС, 29 | C62: Индивидуальный предприниматель Алексеенко Андрей Николаевич, адрес: 626170, Тюменская область, Уватский район, село Уват, улица Коммунальная, 5; ОГРНИП 304720616900116 | D62: 1 | H62: асфальтобетонное | I62: 2 | O62: Индивидуальный предприниматель Алексеенко Андрей Николаевич, адрес: 626170, Тюменская область, Уватский район, село Уват, улица Коммунальная, 5; ОГРНИП 304720616900116 | P62: магазин
A63: 52 | B63: с.Демьянское, улица Энтузиастов, 2 | C63: Индивидуальный предприниматель Алексеенко Андрей Николаевич, адрес: 626170, Тюменская область, Уватский район, село Уват, улица Коммунальная, 5; ОГРНИП 304720616900116 | D63: 1 | H63: асфальтобетонное | I63: 2 | O63: Индивидуальный предприниматель Алексеенко Андрей Николаевич, адрес: 626170, Тюменская область, Уватский район, село Уват, улица Коммунальная, 5; ОГРНИП 304720616900116 | P63: магазин
A64: 53 | B64: с.Демьянское, АПМК-Билдинг | C64: ООО АПМК-БИЛДИНГ | E64: 4 | H64: асфальтобетонное покрытие | I64: 6 | O64: ООО АПМК-БИЛДИНГ | P64: нежилое здание
A65: 54 | B65: с.Демьянское, ЛПДС "Демьянское", ООО "СРСМ" | C65: СРСМ ООО | H65: асфальтобетонное покрытие | L65: 1 | O65: СРСМ ООО | P65: нежилое здание
A66: 55 | B66: с.Демьянское, ул. Шоссейная, 12 | C66: АО ТОДЭП | E66: 1 | H66: асфальтобетонное | I66: 6 | O66: АО ТОДЭП | P66: нежилое здание
A67: 56 | B67: с.Демьянское, ул. НПС, 26 | C67: АО ТАНДЕР | D67: 1 | H67: асфальтобетонное | I67: 6 | O67: АО ТАНДЕР | P67: нежилое здание
A68: 57 | B68: с.Демьянское,ул. НПС, 37 | C68: ИП Лукьянчикова татьяна Геннадьевна | E68: 1 | H68: асфальтобетонное | I68: 6 | O68: ИП Лукьянчикова татьяна Геннадьевна | P68: нежилое здание
A69: 58 | B69: с.Демьянское, НПС, 24 | C69: Муниципальное казенное учреждение «Управление территориями Уватского муниципального округа». Адрес: 626170, Тюменская область, м. р-н Уватский, с. п. Уватское, с. Уват, ул. Ленина, д. 77, ОГРН 1257200017579 | E69: 1 | H69: асфальтобетонное | I69: 6 | O69: Муниципальное казенное учреждение «Управление территориями Уватского муниципального округа». Адрес: 626170, Тюменская область, м. р-н Уватский, с. п. Уватское, с. Уват, ул. Ленина, д. 77, ОГРН 1257200017579 | P69: нежилое здание
A70: 59 | B70: с.Демьянское, ул. Полевая, 2 | C70: ООО ФАКТ-Т | D70: 1 | H70: асфальтобетонное | I70: 6 | O70: ООО ФАКТ-Т | P70: нежилое здание
A71: 60 | B71: с. Демьянское, 30 | C71: ООО ПРОДСЕРВИС | E71: 3 | H71: асфальтобетонное | I71: 6 | O71: ООО ПРОДСЕРВИС | P71: нежилое здание
A72: 61 | B72: с.Демьянское, 8б | C72: Муниципальное казенное учреждение «Управление территориями Уватского муниципального округа». Адрес: 626170, Тюменская область, м. р-н Уватский, с. п. Уватское, с. Уват, ул. Ленина, д. 77, ОГРН 1257200017579 | E72: 1 | H72: асфальтобетонное | I72: 6 | O72: Муниципальное казенное учреждение «Управление территориями Уватского муниципального округа». Адрес: 626170, Тюменская область, м. р-н Уватский, с. п. Уватское, с. Уват, ул. Ленина, д. 77, ОГРН 1257200017579 | P72: нежилое здание
A73: 62 | B73: с.Демьянское, ул.Подгорная, 35 | C73: Муниципальное казенное учреждение «Управление территориями Уватского муниципального округа». Адрес: 626170, Тюменская область, м. р-н Уватский, с. п. Уватское, с. Уват, ул. Ленина, д. 77, ОГРН 1257200017579 | D73: 5 | H73: асфальтобетонное | I73: 6 | O73: Муниципальное казенное учреждение «Управление территориями Уватского муниципального округа». Адрес: 626170, Тюменская область, м. р-н Уватский, с. п. Уватское, с. Уват, ул. Ленина, д. 77, ОГРН 1257200017579 | P73: Объекты жилого и нежилого фонда, правообладателями которых не созданы индивидуальные места накопления ТКО в границах территорий: с.Демьянское, ул.Подгорная
A74: 63 | B74: с.Демьянское, ул. НПС, 27 | C74: ЦДК Уватского муниципального района АУ | E74: 1 | H74: асфальтобетонное | I74: 6 | O74: ЦДК Уватского муниципального района АУ | P74: нежилое здание
A75: 64 | B75: с.Демьянское, ул. НПС, 25 | C75: Демьянская СОШ им.Гвардии матроса Копотилова Уватского муниципального района МАОУ | E75: 2 | H75: асфальтобетонное | I75: 6 | O75: Демьянская СОШ им.Гвардии матроса Копотилова Уватского муниципального района МАОУ | P75: нежилое здание
A76: 65 | B76: с.Демьянское, ул.Лопарева, 8 | C76: Муниципальное казенное учреждение «Управление территориями Уватского муниципального округа». Адрес: 626170, Тюменская область, м. р-н Уватский, с. п. Уватское, с. Уват, ул. Ленина, д. 77, ОГРН 1257200017579 | D76: 2 | H76: асфальтобетонное | I76: 6 | O76: Муниципальное казенное учреждение «Управление территориями Уватского муниципального округа». Адрес: 626170, Тюменская область, м. р-н Уватский, с. п. Уватское, с. Уват, ул. Ленина, д. 77, ОГРН 1257200017579 | P76: Объекты жилого и нежилого фонда, правообладателями которых не созданы индивидуальные места накопления ТКО в границах территорий: с.Демьянское, ул.Лопарева
A77: 66 | B77: с.Демьянское, ул.Карбышева, 28 | C77: Муниципальное казенное учреждение «Управление территориями Уватского муниципального округа». Адрес: 626170, Тюменская область, м. р-н Уватский, с. п. Уватское, с. Уват, ул. Ленина, д. 77, ОГРН 1257200017579 | D77: 4 | H77: асфальтобетонное | I77: 6 | O77: Муниципальное казенное учреждение «Управление территориями Уватского муниципального округа». Адрес: 626170, Тюменская область, м. р-н Уватский, с. п. Уватское, с. Уват, ул. Ленина, д. 77, ОГРН 1257200017579 | P77: Объекты жилого и нежилого фонда, правообладателями которых не созданы индивидуальные места накопления ТКО в границах территорий: с.Демьянское, ул.Карбышева
A78: село Ивановка
A79: 67 | B79: с. Ивановка ул. Орджоникидзе 9 | C79: Муниципальное казенное учреждение «Управление территориями Уватского муниципального округа». Адрес: 626170, Тюменская область, м. р-н Уватский, с. п. Уватское, с. Уват, ул. Ленина, д. 77, ОГРН 1257200017579 | D79: 2 | H79: ж/б плита | I79: 132 | O79: Муниципальное казенное учреждение «Управление территориями Уватского муниципального округа». Адрес: 626170, Тюменская область, м. р-н Уватский, с. п. Уватское, с. Уват, ул. Ленина, д. 77, ОГРН 1257200017579 | P79: Объекты жилого и нежилого фонда, правообладателями которых не созданы индивидуальные места накопления ТКО в границах территорий: с.Ивановка, ул.Орджоникидзе 8, 10, 13, 14, 15, 16; ул.Садовая 6, 7, 8, 9, 11; ул.Советская 4, 5, 6, 7, 8, 9; ГБУЗ ТО "Областная больница №20"
A80: 68 | B80: с. Ивановка ул. Орджоникидзе, 31 | C80: Муниципальное казенное учреждение «Управление территориями Уватского муниципального округа». Адрес: 626170, Тюменская область, м. р-н Уватский, с. п. Уватское, с. Уват, ул. Ленина, д. 77, ОГРН 1257200017579 | D80: 2 | H80: ж/б плита | I80: 36 | O80: Муниципальное казенное учреждение «Управление территориями Уватского муниципального округа». Адрес: 626170, Тюменская область, м. р-н Уватский, с. п. Уватское, с. Уват, ул. Ленина, д. 77, ОГРН 1257200017579 | P80: Объекты жилого и нежилого фонда, правообладателями которых не созданы индивидуальные места накопления ТКО в границах территорий: с.Ивановка, ул.Орджоникидзе 27, 28, 29, 30, 31, 32, 33, 34, 35, 36, 36а, 37, 38, 39
A81: 69 | B81: с. Ивановка ул. Береговая, 17 | C81: Муниципальное казенное учреждение «Управление территориями Уватского муниципального округа». Адрес: 626170, Тюменская область, м. р-н Уватский, с. п. Уватское, с. Уват, ул. Ленина, д. 77, ОГРН 1257200017579 | D81: 2 | H81: ж/б плита | I81: 36 | O81: Муниципальное казенное учреждение «Управление территориями Уватского муниципального округа». Адрес: 626170, Тюменская область, м. р-н Уватский, с. п. Уватское, с. Уват, ул. Ленина, д. 77, ОГРН 1257200017579 | P81: Объекты жилого и нежилого фонда, правообладателями которых не созданы индивидуальные места накопления ТКО в границах территорий: с.Ивановка, ул.Береговая 13, 15, 17, 19, 21, 23, 24, 26, 28, 30, 32
A82: 70 | B82: с. Ивановка ул. Береговая, 41 | C82: Муниципальное казенное учреждение «Управление территориями Уватского муниципального округа». Адрес: 626170, Тюменская область, м. р-н Уватский, с. п. Уватское, с. Уват, ул. Ленина, д. 77, ОГРН 1257200017579 | D82: 2 | H82: ж/б плита | I82: 36 | O82: Муниципальное казенное учреждение «Управление территориями Уватского муниципального округа». Адрес: 626170, Тюменская область, м. р-н Уватский, с. п. Уватское, с. Уват, ул. Ленина, д. 77, ОГРН 1257200017579 | P82: Объекты жилого и нежилого фонда, правообладателями которых не созданы индивидуальные места накопления ТКО в границах территорий: с.Ивановка, ул.Береговая 37, 39, 41, 43, 45, 46, 47, 49, 50, 52, 54, 56, 58, 60, 62, 64, 66
A83: 71 | B83: с Ивановка ул. Механизаторов, 2 | C83: Муниципальное казенное учреждение «Управление территориями Уватского муниципального округа». Адрес: 626170, Тюменская область, м. р-н Уватский, с. п. Уватское, с. Уват, ул. Ленина, д. 77, ОГРН 1257200017579 | D83: 1 | H83: ж/б плита | I83: 36 | O83: Муниципальное казенное учреждение «Управление территориями Уватского муниципального округа». Адрес: 626170, Тюменская область, м. р-н Уватский, с. п. Уватское, с. Уват, ул. Ленина, д. 77, ОГРН 1257200017579 | P83: Объекты жилого и нежилого фонда, правообладателями которых не созданы индивидуальные места накопления ТКО в границах территорий: с.Ивановка, ул.Механизаторов 1, 1е, 2а, 4, 5, 5а, 6; ул.Лесная 4, 10; ул.Береговая 2б, 2к, 2п
A84: 72 | B84: с Ивановка ул. Механизаторов, 24 | C84: Муниципальное казенное учреждение «Управление территориями Уватского муниципального округа». Адрес: 626170, Тюменская область, м. р-н Уватский, с. п. Уватское, с. Уват, ул. Ленина, д. 77, ОГРН 1257200017579 | D84: 1 | H84: ж/б плита | I84: 36 | O84: Муниципальное казенное учреждение «Управление территориями Уватского муниципального округа». Адрес: 626170, Тюменская область, м. р-н Уватский, с. п. Уватское, с. Уват, ул. Ленина, д. 77, ОГРН 1257200017579 | P84: Объекты жилого и нежилого фонда, правообладателями которых не созданы индивидуальные места накопления ТКО в границах территорий: с.Ивановка, ул.Механизаторов 17, 19, 21, 23, 26, 2а, 30; ул.Полевая 1, 2, 3, 4, 5, 6; ул.Советская 8, 9, 10, 11, 12, 14; ул.Садовая 10, 13; МП Туртасское КП
A85: 73 | B85: с Ивановка ул.Механизаторов, 9 | C85: Муниципальное казенное учреждение «Управление территориями Уватского муниципального округа». Адрес: 626170, Тюменская область, м. р-н Уватский, с. п. Уватское, с. Уват, ул. Ленина, д. 77, ОГРН 1257200017579 | D85: 1 | H85: ж/б плита | I85: 36 | O85: Муниципальное казенное учреждение «Управление территориями Уватского муниципального округа». Адрес: 626170, Тюменская область, м. р-н Уватский, с. п. Уватское, с. Уват, ул. Ленина, д. 77, ОГРН 1257200017579 | P85: Объекты жилого и нежилого фонда, правообладателями которых не созданы индивидуальные места накопления ТКО в границах территорий: с.Ивановка, ул.Механизаторов 5, 7, 8, 9, 10, 11, 12, 14, 16
A86: 74 | B86: с Ивановка ул. Механизаторов , 20 | C86: Муниципальное казенное учреждение «Управление территориями Уватского муниципального округа». Адрес: 626170, Тюменская область, м. р-н Уватский, с. п. Уватское, с. Уват, ул. Ленина, д. 77, ОГРН 1257200017579 | D86: 1 | H86: ж/б плита | I86: 36 | O86: Муниципальное казенное учреждение «Управление территориями Уватского муниципального округа». Адрес: 626170, Тюменская область, м. р-н Уватский, с. п. Уватское, с. Уват, ул. Ленина, д. 77, ОГРН 1257200017579 | P86: Объекты жилого и нежилого фонда, правообладателями которых не созданы индивидуальные места накопления ТКО в границах территорий: с.Ивановка, ул.Механизаторов 13, 15, 18, 18а, 20, 22
A87: 75 | B87: с Ивановка ул.Береговая, 11 | C87: Муниципальное казенное учреждение «Управление территориями Уватского муниципального округа». Адрес: 626170, Тюменская область, м. р-н Уватский, с. п. Уватское, с. Уват, ул. Ленина, д. 77, ОГРН 1257200017579 | D87: 1 | H87: ж/б плита | I87: 36 | O87: Муниципальное казенное учреждение «Управление территориями Уватского муниципального округа». Адрес: 626170, Тюменская область, м. р-н Уватский, с. п. Уватское, с. Уват, ул. Ленина, д. 77, ОГРН 1257200017579 | P87: Объекты жилого и нежилого фонда, правообладателями которых не созданы индивидуальные места накопления ТКО в границах территорий: с.Ивановка, ул.Береговая 10, 11, 13а, 13б, 13в, 12, 14, 16, 18, 20, 22; ул.Полевая 8, 10
A88: 76 | B88: с Ивановка ул. Орджоникидзе, 22 | C88: Муниципальное казенное учреждение «Управление территориями Уватского муниципального округа». Адрес: 626170, Тюменская область, м. р-н Уватский, с. п. Уватское, с. Уват, ул. Ленина, д. 77, ОГРН 1257200017579 | D88: 2 | H88: ж/б плита | I88: 36 | O88: Муниципальное казенное учреждение «Управление территориями Уватского муниципального округа». Адрес: 626170, Тюменская область, м. р-н Уватский, с. п. Уватское, с. Уват, ул. Ленина, д. 77, ОГРН 1257200017579 | P88: Объекты жилого и нежилого фонда, правообладателями которых не созданы индивидуальные места накопления ТКО в границах территорий: с.Ивановка, ул. Орджоникидзе 17, 18, 19, 20, 21, 22, 23, 24, 25, 26
A89: 77 | B89: с. Ивановка , ул. Орджиникидзе , 1 | C89: Муниципальное автономное общеобразовательное учреждение "Ивановская средняя общеобразовательная школа" Уватского муниципального района . Адрес:626195, Тюменская область, Уватский район, село Ивановка, ул. Ордженикидзе , 1, ОГРН 1027201300686 | D89: 2 | H89: бетон | I89: 12 | O89: =#REF! -> #REF! | P89: школа
A90: 78 | B90: с. Ивановка , Коммунальный проезд, дом 4 | C90: Общество с ограниченной ответственностью "Уватннфтесервис", Адрес: 626170, Тюменская область, Уватский район, село Уват, ул.Авиаторов, д.2, ОГРН 1117232056017 | D90: 1 | H90: асфальтобетонное | I90: 2 | O90: Общество с ограниченной ответственностью "Уватннфтесервис", Адрес: 626170, Тюменская область, Уватский район, село Уват, ул.Авиаторов, д.2, ОГРН 1117232056017 | P90: гараж
A91: 79 | B91: с.Ивановка, улица Орджоникидзе, между д.3-5 | C91: Муниципальное казенное учреждение «Управление территориями Уватского муниципального округа». Адрес: 626170, Тюменская область, м. р-н Уватский, с. п. Уватское, с. Уват, ул. Ленина, д. 77, ОГРН 1257200017579 | H91: ж/б плита | O91: Муниципальное казенное учреждение «Управление территориями Уватского муниципального округа». Адрес: 626170, Тюменская область, м. р-н Уватский, с. п. Уватское, с. Уват, ул. Ленина, д. 77, ОГРН 1257200017579 | P91: Объекты жилого и нежилого фонда, правообладателями которых не созданы индивидуальные места накопления ТКО в границах территорий: с.Ивановка, ул. Орджоникидзе 2, 3, 4, 5, 6, 7; ул.Садовая 3, 5
A92: 80 | B92: с.Ивановка, перекресток ул.Светлая-Уютная | C92: Муниципальное казенное учреждение «Управление территориями Уватского муниципального округа». Адрес: 626170, Тюменская область, м. р-н Уватский, с. п. Уватское, с. Уват, ул. Ленина, д. 77, ОГРН 1257200017579 | H92: ж/б плита | O92: Муниципальное казенное учреждение «Управление территориями Уватского муниципального округа». Адрес: 626170, Тюменская область, м. р-н Уватский, с. п. Уватское, с. Уват, ул. Ленина, д. 77, ОГРН 1257200017579 | P92: Объекты жилого и нежилого фонда, правообладателями которых не созданы индивидуальные места накопления ТКО в границах территорий: с.Ивановка, ул. Светлая 2, 6; ул.Уютная 10, 15, 16, 18, 24, 30, 31
A93: 81 | B93: с.Ивановка, ул.Береговая, между д.3-5 | C93: Муниципальное казенное учреждение «Управление территориями Уватского муниципального округа». Адрес: 626170, Тюменская область, м. р-н Уватский, с. п. Уватское, с. Уват, ул. Ленина, д. 77, ОГРН 1257200017579 | H93: ж/б плита | O93: Муниципальное казенное учреждение «Управление территориями Уватского муниципального округа». Адрес: 626170, Тюменская область, м. р-н Уватский, с. п. Уватское, с. Уват, ул. Ленина, д. 77, ОГРН 1257200017579 | P93: Объекты жилого и нежилого фонда, правообладателями которых не созданы индивидуальные места накопления ТКО в границах территорий: с.Ивановка, ул. Береговая 1, 2, 3, 4, 5, 6, 7, 8, 9; пер.Береговой-1 1, 2; пер.Береговой-2 1, 2
A94: 82 | B94: с.Ивановка, ул.Береговая, напротив д.40 | C94: Муниципальное казенное учреждение «Управление территориями Уватского муниципального округа». Адрес: 626170, Тюменская область, м. р-н Уватский, с. п. Уватское, с. Уват, ул. Ленина, д. 77, ОГРН 1257200017579 | H94: ж/б плита | O94: Муниципальное казенное учреждение «Управление территориями Уватского муниципального округа». Адрес: 626170, Тюменская область, м. р-н Уватский, с. п. Уватское, с. Уват, ул. Ленина, д. 77, ОГРН 1257200017579 | P94: Объекты жилого и нежилого фонда, правообладателями которых не созданы индивидуальные места накопления ТКО в границах территорий: с.Ивановка, ул. Береговая 25, 27, 29, 34, 36, 38, 40; ул.Омелинская 10, 31, 42, 44, 50; ул.Мичелевская 20, 22
A95: 83 | B95: с.Ивановка, ул. Орджоникидзе, 9 | C95: ЦДК Уватского муниципального района АУ | E95: 1 | H95: асфальтобетонное покрытие | I95: 6 | O95: ЦДК Уватского муниципального района АУ | P95: нежилое здание
A96: 84 | B96: с.Ивановка, ул. Орджоникидзе, 7а | C96: Муниципальное казенное учреждение «Управление территориями Уватского муниципального округа». Адрес: 626170, Тюменская область, м. р-н Уватский, с. п. Уватское, с. Уват, ул. Ленина, д. 77, ОГРН 1257200017579 | E96: 1 | H96: асфальтобетонное покрытие | I96: 6 | O96: Муниципальное казенное учреждение «Управление территориями Уватского муниципального округа». Адрес: 626170, Тюменская область, м. р-н Уватский, с. п. Уватское, с. Уват, ул. Ленина, д. 77, ОГРН 1257200017579 | P96: нежилое здание
A97: 85 | B97: с.Ивановка, ул.Увальская, 7 | C97: Муниципальное казенное учреждение «Управление территориями Уватского муниципального округа». Адрес: 626170, Тюменская область, м. р-н Уватский, с. п. Уватское, с. Уват, ул. Ленина, д. 77, ОГРН 1257200017579 | D97: 1 | H97: асфальтобетонное | I97: 6 | O97: Муниципальное казенное учреждение «Управление территориями Уватского муниципального округа». Адрес: 626170, Тюменская область, м. р-н Уватский, с. п. Уватское, с. Уват, ул. Ленина, д. 77, ОГРН 1257200017579 | P97: Объекты жилого и нежилого фонда, правообладателями которых не созданы индивидуальные места накопления ТКО в границах территорий: с.Ивановка, ул.Увальская
A98: 86 | B98: с.Ивановка, ул.Уютная, 31 | C98: Муниципальное казенное учреждение «Управление территориями Уватского муниципального округа». Адрес: 626170, Тюменская область, м. р-н Уватский, с. п. Уватское, с. Уват, ул. Ленина, д. 77, ОГРН 1257200017579 | D98: 1 | H98: асфальтобетонное | I98: 6 | O98: Муниципальное казенное учреждение «Управление территориями Уватского муниципального округа». Адрес: 626170, Тюменская область, м. р-н Уватский, с. п. Уватское, с. Уват, ул. Ленина, д. 77, ОГРН 1257200017579 | P98: Объекты жилого и нежилого фонда, правообладателями которых не созданы индивидуальные места накопления ТКО в границах территорий: с.Ивановка, ул. Уютная
A99: 87 | B99: с.Ивановка, улица Орджоникидзе, 6 | C99: Индивидуальный предприниматель Алексеенко Андрей Николаевич, адрес: 626170, Тюменская область, Уватский район, село Уват, улица Коммунальная, 5; ОГРНИП 304720616900116 | D99: 1 | H99: асфальтобетонное | I99: 2 | O99: Индивидуальный предприниматель Алексеенко Андрей Николаевич, адрес: 626170, Тюменская область, Уватский район, село Уват, улица Коммунальная, 5; ОГРНИП 304720616900116 | P99: магазин
A100: поселок Нагорный
A101: 88 | B101: п Нагорный, ул. Школьная, 5 | C101: Муниципальное казенное учреждение «Управление территориями Уватского муниципального округа». Адрес: 626170, Тюменская область, м. р-н Уватский, с. п. Уватское, с. Уват, ул. Ленина, д. 77, ОГРН 1257200017579 | D101: 4 | H101: ж/б плита | I101: 36 | O101: Муниципальное казенное учреждение «Управление территориями Уватского муниципального округа». Адрес: 626170, Тюменская область, м. р-н Уватский, с. п. Уватское, с. Уват, ул. Ленина, д. 77, ОГРН 1257200017579 | P101: Объекты жилого и нежилого фонда, правообладателями которых не созданы индивидуальные места накопления ТКО в границах территорий: п.Нагорный, ул.Школьная 1, 2, 4, 6, 7, 8, 9, 10, 11; ГБУЗ ТО "Областная больница №20"
A102: 89 | B102: п Нагорный, ул. Школьная, 14 | C102: Муниципальное казенное учреждение «Управление территориями Уватского муниципального округа». Адрес: 626170, Тюменская область, м. р-н Уватский, с. п. Уватское, с. Уват, ул. Ленина, д. 77, ОГРН 1257200017579 | D102: 3 | H102: ж/б плита | I102: 36 | O102: Муниципальное казенное учреждение «Управление территориями Уватского муниципального округа». Адрес: 626170, Тюменская область, м. р-н Уватский, с. п. Уватское, с. Уват, ул. Ленина, д. 77, ОГРН 1257200017579 | P102: Объекты жилого и нежилого фонда, правообладателями которых не созданы индивидуальные места накопления ТКО в границах территорий: п.Нагорный, ул.Школьная 12, 13, 14; ул.Новая 1, 2, 3, 4, 5, 6, 7, 8, 9, 10, 11, 12, 14, 16
...
