Workbook

Sheet Лист1
N1: Приложение №1 к распоряжению администрации Уватского муниципального округа от 14.08.2026 №0929-р
A2: Реестр мест (площадок) накопления твердых коммунальных отходов на территории Уватского муниципального округа
A3: №п/п | B3: Данные о нахождении мест (площадок)накопления твердых коммунальных отходов | C3: Наименование хозяйствующего субъекта | D3: Данные о технических характеристиках мест (площадок) накопления твердых коммунальных отходов | O3: Данные о собственниках мест (площадок) накомпления ТКО | P3: Данные об источниках образования ТКО, которые складируются в местах (площадках) накопления ТКО
D4: Количество контейнеров, шт | H4: Используемое покрытие (грунт, асфальт, бетон и др.) | I4: Площадь контейнерной площадки, м2 | J4: Информация о планируемых к размещению контейнеров на контейнерных площадках ТКО
D5: V=1,1 м3 | E5: V=0,75 м3 | F5: V=0,66 м3 | G5: Контейнеры для раздельного накопления ТКО | J5: V=1,1 м3 | K5: V=0,75 м3 | L5: V=8 м3 | M5: Заглубленного типа | N5: Контейнеры для раздельного накопления ТКО
A6: село Алымка
A7: 1 | B7: с.Алымка, ул. Центральная, 4 | C7: Муниципальное казенное учреждение «Управление территориями Уватского муниципального округа». Адрес: 626170, Тюменская область, м. р-н Уватский, с. п. Уватское, с. Уват, ул. Ленина, д. 77, ОГРН 1257200017579 | D7: 1 | H7: ж/б плита | I7: 36 | O7: Муниципальное казенное учреждение «Управление территориями Уватского муниципального округа». Адрес: 626170, Тюменская область, м. р-н Уватский, с. п. Уватское, с. Уват, ул. Ленина, д. 77, ОГРН 1257200017579 | P7: Объекты жилого и нежилого фонда, правообладателями которых не созданы индивидуальные места накопления ТКО в границах территорий: с.Алымка, ул.Центральная, 2, 4, 6, 8, 10; АО Почта России; ГБУЗ ТО "Областная больница №20"
A8: 2 | B8: с.Алымка, ул. Центральная, 25 | C8: Муниципальное казенное учреждение «Управление территориями Уватского муниципального округа». Адрес: 626170, Тюменская область, м. р-н Уватский, с. п. Уватское, с. Уват, ул. Ленина, д. 77, ОГРН 1257200017579 | D8: 2 | H8: ж/б плита | I8: 24 | O8: Муниципальное казенное учреждение «Управление территориями Уватского муниципального округа». Адрес: 626170, Тюменская область, м. р-н Уватский, с. п. Уватское, с. Уват, ул. Ленина, д. 77, ОГРН 1257200017579 | P8: Объекты жилого и нежилого фонда, правообладателями которых не созданы индивидуальные места накопления ТКО в границах территорий: с.Алымка, ул.Центральная, 10б, 12а, 12б, 12, 14, 17, 18, 19, 20, 21, 23, 25, 27, 27а, 29
A9: 3 | B9: с.Алымка, ул. Центральная, 39 | C9: Муниципальное казенное учреждение «Управление территориями Уватского муниципального округа». Адрес: 626170, Тюменская область, м. р-н Уватский, с. п. Уватское, с. Уват, ул. Ленина, д. 77, ОГРН 1257200017579 | D9: 1 | H9: ж/б плита | I9: 36 | O9: Муниципальное казенное учреждение «Управление территориями Уватского муниципального округа». Адрес: 626170, Тюменская область, м. р-н Уватский, с. п. Уватское, с. Уват, ул. Ленина, д. 77, ОГРН 1257200017579 | P9: Объекты жилого и нежилого фонда, правообладателями которых не созданы индивидуальные места накопления ТКО в границах территорий: с.Алымка, ул.Центральная, 26, 28, 31, 33, 34, 35, 37, 38, 39, 39а, 40, 41, 43, 45, 47
A10: 4 | B10: с.Алымка, ул. Механизаторов, 22 | C10: Муниципальное казенное учреждение «Управление территориями Уватского муниципального округа». Адрес: 626170, Тюменская область, м. р-н Уватский, с. п. Уватское, с. Уват, ул. Ленина, д. 77, ОГРН 1257200017579 | D10: 1 | H10: ж/б плита | I10: 36 | O10: Муниципальное казенное учреждение «Управление территориями Уватского муниципального округа». Адрес: 626170, Тюменская область, м. р-н Уватский, с. п. Уватское, с. Уват, ул. Ленина, д. 77, ОГРН 1257200017579 | P10: Объекты жилого и нежилого фонда, правообладателями которых не созданы индивидуальные места накопления ТКО в границах территорий: с.Алымка, ул.Центральная, 1, 3, 5, 7, 9, 11, 15; ул.Механизаторов 11, 14, 16, 17, 18, 23, 24; ООО "Селенга"
A11: 5 | B11: с.Алымка, ул. Механизаторов,33 | C11: Муниципальное казенное учреждение «Управление территориями Уватского муниципального округа». Адрес: 626170, Тюменская область, м. р-н Уватский, с. п. Уватское, с. Уват, ул. Ленина, д. 77, ОГРН 1257200017579 | D11: 1 | H11: ж/б плита | I11: 36 | O11: Муниципальное казенное учреждение «Управление территориями Уватского муниципального округа». Адрес: 626170, Тюменская область, м. р-н Уватский, с. п. Уватское, с. Уват, ул. Ленина, д. 77, ОГРН 1257200017579 | P11: Объекты жилого и нежилого фонда, правообладателями которых не созданы индивидуальные места накопления ТКО в границах территорий: с.Алымка, ул.Механизаторов 27, 30, 31, 33, 35, 37
A12: 6 | B12: с.Алымка, ул.Механизаторов, 1 | C12: Муниципальное казенное учреждение «Управление территориями Уватского муниципального округа». Адрес: 626170, Тюменская область, м. р-н Уватский, с. п. Уватское, с. Уват, ул. Ленина, д. 77, ОГРН 1257200017579 | D12: 2 | H12: ж/б плита | I12: 36 | O12: Муниципальное казенное учреждение «Управление территориями Уватского муниципального округа». Адрес: 626170, Тюменская область, м. р-н Уватский, с. п. Уватское, с. Уват, ул. Ленина, д. 77, ОГРН 1257200017579 | P12: Объекты жилого и нежилого фонда, правообладателями которых не созданы индивидуальные места накопления ТКО в границах территорий: с.Алымка, ул.Механизаторов 1, 2, 3, 5, 6, 7; ул. Молодежная 1, 2, 3, 5, 6, 8, 9, 10
A13: 7 | B13: с.Алымка, ул.Центральная, 31 | C13: Индивидуальный предприниматель Алексеенко Андрей Николаевич, адрес: 626170, Тюменская область, Уватский район, село Уват, улица Коммунальная, 5; ОГРНИП 304720616900116 | D13: 1 | H13: асфальтобетонное покрытие | I13: 2 | O13: Индивидуальный предприниматель Алексеенко Андрей Николаевич, адрес: 626170, Тюменская область, Уватский район, село Уват, улица Коммунальная, 5; ОГРНИП 304720616900116 | P13: магазин
A14: 8 | B14: Тюменская обл, Уватский р-н, мобильная туристическая база | C14: СШ УМР МАУ ДО | D14: 2 | H14: асфальтобетонное покрытие | I14: 6 | O14: СШ УМР МАУ ДО | P14: нежилое здание
A15: 9 | B15: с.Алымка, ул.Центральная, 10б | C15: Муниципальное казенное учреждение «Управление территориями Уватского муниципального округа». Адрес: 626170, Тюменская область, м. р-н Уватский, с. п. Уватское, с. Уват, ул. Ленина, д. 77, ОГРН 1257200017579 | E15: 1 | H15: асфальтобетонное покрытие | I15: 6 | O15: Муниципальное казенное учреждение «Управление территориями Уватского муниципального округа». Адрес: 626170, Тюменская область, м. р-н Уватский, с. п. Уватское, с. Уват, ул. Ленина, д. 77, ОГРН 1257200017579 | P15: Объекты жилого и нежилого фонда, правообладателями которых не созданы индивидуальные места накопления ТКО в границах территорий: с.Алымка, ул.Центральная
A16: 10 | B16: с.Алымка, ул.Центральная, 26 | C16: Муниципальное казенное учреждение «Управление территориями Уватского муниципального округа». Адрес: 626170, Тюменская область, м. р-н Уватский, с. п. Уватское, с. Уват, ул. Ленина, д. 77, ОГРН 1257200017579 | D16: 1 | H16: асфальтобетонное покрытие | I16: 6 | O16: Муниципальное казенное учреждение «Управление территориями Уватского муниципального округа». Адрес: 626170, Тюменская область, м. р-н Уватский, с. п. Уватское, с. Уват, ул. Ленина, д. 77, ОГРН 1257200017579 | P16: Объекты жилого и нежилого фонда, правообладателями которых не созданы индивидуальные места накопления ТКО в границах территорий: с.Алымка, ул.Центральная
A17: деревня Яр
A18: 11 | B18: д.Яр, ул.Механизаторов, 12 | C18: Муниципальное казенное учреждение «Управление территориями Уватского муниципального округа». Адрес: 626170, Тюменская область, м. р-н Уватский, с. п. Уватское, с. Уват, ул. Ленина, д. 77, ОГРН 1257200017579 | D18: 2 | H18: ж/б плита | I18: 36 | O18: Муниципальное казенное учреждение «Управление территориями Уватского муниципального округа». Адрес: 626170, Тюменская область, м. р-н Уватский, с. п. Уватское, с. Уват, ул. Ленина, д. 77, ОГРН 1257200017579 | P18: Объекты жилого и нежилого фонда, правообладателями которых не созданы индивидуальные места накопления ТКО в границах территорий: с.Яр, ул.Механизаторов 12,13, 14, 18, 20; ул. Молодежная 2, 7, 8, 7а, 13, 14, 15, 16, 17
A19: село Горнослинкино
A20: 12 | B20: с Горнослинкино ул. Свердлова, 7 | C20: Муниципальное казенное учреждение «Управление территориями Уватского муниципального округа». Адрес: 626170, Тюменская область, м. р-н Уватский, с. п. Уватское, с. Уват, ул. Ленина, д. 77, ОГРН 1257200017579 | D20: 2 | H20: ж/б плита | I20: 36 | O20: Муниципальное казенное учреждение «Управление территориями Уватского муниципального округа». Адрес: 626170, Тюменская область, м. р-н Уватский, с. п. Уватское, с. Уват, ул. Ленина, д. 77, ОГРН 1257200017579 | P20: Объекты жилого и нежилого фонда, правообладателями которых не созданы индивидуальные места накопления ТКО в границах территорий: с.Горнослинкино, ул.Свердлова 1/1, 1/2, 1б, 2, 3, 4, 5, 6, 7, 9, 10, 13; пер.Полевой 2а, 4, 6, 8
A21: 13 | B21: с Горнослинкино ул. Свердлова, 18 | C21: Муниципальное казенное учреждение «Управление территориями Уватского муниципального округа». Адрес: 626170, Тюменская область, м. р-н Уватский, с. п. Уватское, с. Уват, ул. Ленина, д. 77, ОГРН 1257200017579 | D21: 2 | H21: ж/б плита | I21: 48 | O21: Муниципальное казенное учреждение «Управление территориями Уватского муниципального округа». Адрес: 626170, Тюменская область, м. р-н Уватский, с. п. Уватское, с. Уват, ул. Ленина, д. 77, ОГРН 1257200017579 | P21: Объекты жилого и нежилого фонда, правообладателями которых не созданы индивидуальные места накопления ТКО в границах территорий: с.Горнослинкино, ул.Свердлова 14, 16, 17, 18, 19/1, 19/2, 21, 23а, 25, 26, 27, 28, 29, 31, 33
A22: 14 | B22: с Горнослинкино ул. Свердлова, 66 | C22: Муниципальное казенное учреждение «Управление территориями Уватского муниципального округа». Адрес: 626170, Тюменская область, м. р-н Уватский, с. п. Уватское, с. Уват, ул. Ленина, д. 77, ОГРН 1257200017579 | D22: 2 | H22: ж/б плита | I22: 48 | O22: Муниципальное казенное учреждение «Управление территориями Уватского муниципального округа». Адрес: 626170, Тюменская область, м. р-н Уватский, с. п. Уватское, с. Уват, ул. Ленина, д. 77, ОГРН 1257200017579 | P22: Объекты жилого и нежилого фонда, правообладателями которых не созданы индивидуальные места накопления ТКО в границах территорий: с.Горнослинкино, ул.Свердлова 60, 62, 63, 64, 65/1, 65/2, 66
A23: 15 | B23: с Горнослинкино ул. Свердлова, 71 | C23: Муниципальное казенное учреждение «Управление территориями Уватского муниципального округа». Адрес: 626170, Тюменская область, м. р-н Уватский, с. п. Уватское, с. Уват, ул. Ленина, д. 77, ОГРН 1257200017579 | D23: 2 | H23: ж/б плита | I23: 48 | O23: Муниципальное казенное учреждение «Управление территориями Уватского муниципального округа». Адрес: 626170, Тюменская область, м. р-н Уватский, с. п. Уватское, с. Уват, ул. Ленина, д. 77, ОГРН 1257200017579 | P23: Объекты жилого и нежилого фонда, правообладателями которых не созданы индивидуальные места накопления ТКО в границах территорий: с.Горнослинкино, ул.Свердлова 67/1, 67/2, 68, 68а, 70, 71, 70а/1, 70а/2, 70а/3, 70а/4, 70б, 71а
A24: 16 | B24: с Горнослинкино ул. Северная, 9 | C24: Муниципальное казенное учреждение «Управление территориями Уватского муниципального округа». Адрес: 626170, Тюменская область, м. р-н Уватский, с. п. Уватское, с. Уват, ул. Ленина, д. 77, ОГРН 1257200017579 | D24: 2 | H24: ж/б плита | I24: 48 | O24: Муниципальное казенное учреждение «Управление территориями Уватского муниципального округа». Адрес: 626170, Тюменская область, м. р-н Уватский, с. п. Уватское, с. Уват, ул. Ленина, д. 77, ОГРН 1257200017579 | P24: Объекты жилого и нежилого фонда, правообладателями которых не созданы индивидуальные места накопления ТКО в границах территорий: с.Горнослинкино, ул.Северная 7/1, 7/2, 9, 11/1, 11/2, 11а/1
A25: 17 | B25: с Горнослинкино ул. Северная, 17 | C25: Муниципальное казенное учреждение «Управление территориями Уватского муниципального округа». Адрес: 626170, Тюменская область, м. р-н Уватский, с. п. Уватское, с. Уват, ул. Ленина, д. 77, ОГРН 1257200017579 | D25: 2 | H25: ж/б плита | I25: 36 | O25: Муниципальное казенное учреждение «Управление территориями Уватского муниципального округа». Адрес: 626170, Тюменская область, м. р-н Уватский, с. п. Уватское, с. Уват, ул. Ленина, д. 77, ОГРН 1257200017579 | P25: Объекты жилого и нежилого фонда, правообладателями которых не созданы индивидуальные места накопления ТКО в границах территорий: с.Горнослинкино, ул.Северная 12, 12а, 14, 15/1, 15/2, 15а/1, 15а/2, 17/1, 17/2, 19, 21/1, 21/2, 23
A26: 18 | B26: с.Горнослинкино, переулок Полевой, 2 | C26: Муниципальное казенное учреждение «Управление территориями Уватского муниципального округа». Адрес: 626170, Тюменская область, м. р-н Уватский, с. п. Уватское, с. Уват, ул. Ленина, д. 77, ОГРН 1257200017579 | D26: 2 | H26: ж/б плита | I26: 36 | O26: Муниципальное казенное учреждение «Управление территориями Уватского муниципального округа». Адрес: 626170, Тюменская область, м. р-н Уватский, с. п. Уватское, с. Уват, ул. Ленина, д. 77, ОГРН 1257200017579 | P26: Объекты жилого и нежилого фонда, правообладателями которых не созданы индивидуальные места накопления ТКО в границах территорий: с.Горнослинкино, пер.Полевой 1, 2; ул.Свердлова 10, 12, 15; пер.Караульный 1, 3, 4, 4а, 5, 6, 7, 8, 9, 9а, 11
A27: 19 | B27: с.Горнослинкино, ул. Свердлова, 57 | C27: Муниципальное казенное учреждение «Управление территориями Уватского муниципального округа». Адрес: 626170, Тюменская область, м. р-н Уватский, с. п. Уватское, с. Уват, ул. Ленина, д. 77, ОГРН 1257200017579 | D27: 2 | H27: ж/б плита | I27: 36 | O27: Муниципальное казенное учреждение «Управление территориями Уватского муниципального округа». Адрес: 626170, Тюменская область, м. р-н Уватский, с. п. Уватское, с. Уват, ул. Ленина, д. 77, ОГРН 1257200017579 | P27: Объекты жилого и нежилого фонда, правообладателями которых не созданы индивидуальные места накопления ТКО в границах территорий: с.Горнослинкино, ул.Свердлова 44, 45, 46, 47, 48, 50, 52, 54, 56, 57, 58, 59, 61, 33
A28: 20 | B28: с.Горнослинкино, ул. Свердлова, 81 | C28: Муниципальное казенное учреждение «Управление территориями Уватского муниципального округа». Адрес: 626170, Тюменская область, м. р-н Уватский, с. п. Уватское, с. Уват, ул. Ленина, д. 77, ОГРН 1257200017579 | D28: 2 | H28: ж/б плита | I28: 36 | O28: Муниципальное казенное учреждение «Управление территориями Уватского муниципального округа». Адрес: 626170, Тюменская область, м. р-н Уватский, с. п. Уватское, с. Уват, ул. Ленина, д. 77, ОГРН 1257200017579 | P28: Объекты жилого и нежилого фонда, правообладателями которых не созданы индивидуальные места накопления ТКО в границах территорий: с.Горнослинкино, ул.Свердлова 72, 73, 74, 75, 77, 78, 80, 81, 91, 97, 99, 101
A29: 21 | B29: с.Горнослинкино, ул.Нагорная, 13 | C29: Муниципальное казенное учреждение «Управление территориями Уватского муниципального округа». Адрес: 626170, Тюменская область, м. р-н Уватский, с. п. Уватское, с. Уват, ул. Ленина, д. 77, ОГРН 1257200017579 | D29: 2 | H29: ж/б плита | I29: 36 | O29: Муниципальное казенное учреждение «Управление территориями Уватского муниципального округа». Адрес: 626170, Тюменская область, м. р-н Уватский, с. п. Уватское, с. Уват, ул. Ленина, д. 77, ОГРН 1257200017579 | P29: Объекты жилого и нежилого фонда, правообладателями которых не созданы индивидуальные места накопления ТКО в границах территорий: с.Горнослинкино, ул.Нагорная 8, 9, 10, 11д, 14, 15, 16, 17, 18, 19, 21, 23
A30: 22 | B30: с.Горнослинкино, ул.Нагорная, 38 | C30: Муниципальное казенное учреждение «Управление территориями Уватского муниципального округа». Адрес: 626170, Тюменская область, м. р-н Уватский, с. п. Уватское, с. Уват, ул. Ленина, д. 77, ОГРН 1257200017579 | D30: 2 | H30: ж/б плита | I30: 36 | O30: Муниципальное казенное учреждение «Управление территориями Уватского муниципального округа». Адрес: 626170, Тюменская область, м. р-н Уватский, с. п. Уватское, с. Уват, ул. Ленина, д. 77, ОГРН 1257200017579 | P30: Объекты жилого и нежилого фонда, правообладателями которых не созданы индивидуальные места накопления ТКО в границах территорий: с.Горнослинкино, ул.Нагорная 36, 37, 38, 39, 40, 41, 42, 43, 44а, 45, 46, 47, 49, 53
A31: 23 | B31: с.Горнослинкино, ул.Северная, 20б | C31: Муниципальное казенное учреждение «Управление территориями Уватского муниципального округа». Адрес: 626170, Тюменская область, м. р-н Уватский, с. п. Уватское, с. Уват, ул. Ленина, д. 77, ОГРН 1257200017579 | D31: 2 | H31: ж/б плита | I31: 36 | O31: Муниципальное казенное учреждение «Управление территориями Уватского муниципального округа». Адрес: 626170, Тюменская область, м. р-н Уватский, с. п. Уватское, с. Уват, ул. Ленина, д. 77, ОГРН 1257200017579 | P31: Объекты жилого и нежилого фонда, правообладателями которых не созданы индивидуальные места накопления ТКО в границах территорий: с.Горнослинкино, ул.Северная 16, 18/1, 18/2, 20/1, 20/2, 20б, 22, 25/1, 25/2, 27/1, 27/2, 29, 31/1, 31/2
... A34: 26 | B34: с.Горнослинкино, ул.свердлова, 42а | C34: Индивидуальный предприниматель Алексеенко Андрей Николаевич, адрес: 626170, Тюменская область, Уватский район, село Уват, улица Коммунальная, 5; ОГРНИП 304720616900116 | D34: 1 | H34: асфальтобетонное покрытие | I34: 2 | O34: Индивидуальный предприниматель Алексеенко Андрей Николаевич, адрес: 626170, Тюменская область, Уватский район, село Уват, улица Коммунальная, 5; ОГРНИП 304720616900116 | P34: магазин
A35: 27 | B35: с.Горнослинкино, ул. Северная, 3 | C35: Муниципальное казенное учреждение «Управление территориями Уватского муниципального округа». Адрес: 626170, Тюменская область, м. р-н Уватский, с. п. Уватское, с. Уват, ул. Ленина, д. 77, ОГРН 1257200017579 | H35: ж/б плита | O35: Муниципальное казенное учреждение «Управление территориями Уватского муниципального округа». Адрес: 626170, Тюменская область, м. р-н Уватский, с. п. Уватское, с. Уват, ул. Ленина, д. 77, ОГРН 1257200017579 | P35: Объекты жилого и нежилого фонда, правообладателями которых не созданы индивидуальные места накопления ТКО в границах территорий: с.Горнослинкино, ул.Северная 1а, 2, 4/1, 4/2, 6, 8/1, 8/2
A36: 28 | B36: с. Горнослинкино, ул.Нагорная, 1 | C36: Муниципальное казенное учреждение «Управление территориями Уватского муниципального округа». Адрес: 626170, Тюменская область, м. р-н Уватский, с. п. Уватское, с. Уват, ул. Ленина, д. 77, ОГРН 1257200017579 | H36: ж/б плита | O36: Муниципальное казенное учреждение «Управление территориями Уватского муниципального округа». Адрес: 626170, Тюменская область, м. р-н Уватский, с. п. Уватское, с. Уват, ул. Ленина, д. 77, ОГРН 1257200017579 | P36: Объекты жилого и нежилого фонда, правообладателями которых не созданы индивидуальные места накопления ТКО в границах территорий: с.Горнослинкино, ул.Нагорная 1, 2, 3, 4, 5, 6, 7
A37: 29 | B37: с. Горнослинкино, ул.Нагорная, 29 | C37: Муниципальное казенное учреждение «Управление территориями Уватского муниципального округа». Адрес: 626170, Тюменская область, м. р-н Уватский, с. п. Уватское, с. Уват, ул. Ленина, д. 77, ОГРН 1257200017579 | H37: ж/б плита | O37: Муниципальное казенное учреждение «Управление территориями Уватского муниципального округа». Адрес: 626170, Тюменская область, м. р-н Уватский, с. п. Уватское, с. Уват, ул. Ленина, д. 77, ОГРН 1257200017579 | P37: Объекты жилого и нежилого фонда, правообладателями которых не созданы индивидуальные места накопления ТКО в границах территорий: с.Горнослинкино, ул.Нагорная 20, 22, 24, 25, 26, 28, 30а, 33/1, 32, 34/2, 35/1, 35/2
A38: 30 | B38: с.Горнослинкино, ул. Свердлова, 39 | C38: Муниципальное казенное учреждение «Управление территориями Уватского муниципального округа». Адрес: 626170, Тюменская область, м. р-н Уватский, с. п. Уватское, с. Уват, ул. Ленина, д. 77, ОГРН 1257200017579 | H38: ж/б плита | O38: Муниципальное казенное учреждение «Управление территориями Уватского муниципального округа». Адрес: 626170, Тюменская область, м. р-н Уватский, с. п. Уватское, с. Уват, ул. Ленина, д. 77, ОГРН 1257200017579 | P38: Объекты жилого и нежилого фонда, правообладателями которых не созданы индивидуальные места накопления ТКО в границах территорий: с.Горнослинкино, ул.Свердлова 30, 35, 32, 38/1, 38/2, 39, 40/1, 40/2, 40/3, 40/4, 41, 43; ООО "ЕЛЕНА"; ГБУЗ ТО "Областная больница №20"
A39: 31 | B39: с.Горнослинкино, ул.Северная, 16 | C39: Муниципальное казенное учреждение «Управление территориями Уватского муниципального округа». Адрес: 626170, Тюменская область, м. р-н Уватский, с. п. Уватское, с. Уват, ул. Ленина, д. 77, ОГРН 1257200017579 | D39: 1 | H39: асфальтобетонное покрытие | I39: 6 | O39: Муниципальное казенное учреждение «Управление территориями Уватского муниципального округа». Адрес: 626170, Тюменская область, м. р-н Уватский, с. п. Уватское, с. Уват, ул. Ленина, д. 77, ОГРН 1257200017579 | P39: Объекты жилого и нежилого фонда, правообладателями которых не созданы индивидуальные места накопления ТКО в границах территорий: с.Горнослинкино, ул.Севернаая, 16
G40: село Демьянское
A41: 32 | B41: с. Демьянское ул. Молодёжная, 14 | C41: Муниципальное казенное учреждение «Управление территориями Уватского муниципального округа». Адрес: 626170, Тюменская область, м. р-н Уватский, с. п. Уватское, с. Уват, ул. Ленина, д. 77, ОГРН 1257200017579 | D41: 4 | H41: ж/б плита | I41: 36 | O41: Муниципальное казенное учреждение «Управление территориями Уватского муниципального округа». Адрес: 626170, Тюменская область, м. р-н Уватский, с. п. Уватское, с. Уват, ул. Ленина, д. 77, ОГРН 1257200017579 | P41: Объекты жилого и нежилого фонда, правообладателями которых не созданы индивидуальные места накопления ТКО в границах территорий: с.Демьянское, ул.Молодежная 2, 2а,3, 4, 5/1, 5/2, 5а, 5б, 6/1, 6/2, 7, 8, 9, 10/1, 10/2, 11, 12, 12а, 13, 14/1, 14/2, 14а, 15, 20, 22, 23; ул.Солнечная 1, 2, 3, 4, 5, 6, 7, 8, 9, 10, 11, 12, 14, 16, 18, 18а, 18б, 18в; ул.Иртышская 2, 4, 6, 8, 10, 12, 14, 16; пер.Березовый 6, 14; ул.Дачная 1а, 1б, 2, 3, 3а, 3б, 4, 5, 6, 7, 8, 9, 9а, 10, 10б 11, 12, 14,, 18
A42: 33 | B42: с. Демьянское ул. Хвойная 1в | C42: Муниципальное казенное учреждение «Управление территориями Уватского муниципального округа». Адрес: 626170, Тюменская область, м. р-н Уватский, с. п. Уватское, с. Уват, ул. Ленина, д. 77, ОГРН 1257200017579 | D42: 2 | H42: ж/б плита | I42: 36 | O42: Муниципальное казенное учреждение «Управление территориями Уватского муниципального округа». Адрес: 626170, Тюменская область, м. р-н Уватский, с. п. Уватское, с. Уват, ул. Ленина, д. 77, ОГРН 1257200017579 | P42: Объекты жилого и нежилого фонда, правообладателями которых не созданы индивидуальные места накопления ТКО в границах территорий: с.Демьянское, ул.Хвойная 1/1, 1/2, 1г, 1в, 1б, 3/1, 3/2, 4, 5/1, 5/2; ул.Кедровая 1/1, 1/2, 2а, 3/1, 3/2, 4/1, 4/2, 4/3, 5/1, 5/2, 5/3, 6/1, 6/2, 6/3, 2, 1в, 2б, 1а; ул.Нагорная 2, 3, 4, 7/, 7/2, 8, 9, 9а, 6, 7в; ООО ЛИДЕРГРУПП; ООО КАПИТАЛСТРОЙ
...
